BEGIN:VCALENDAR
PRODID;X-RICAL-TZSOURCE=TZINFO:-//Calagator//EN
CALSCALE:GREGORIAN
X-WR-CALNAME:Adapt2Play
METHOD:PUBLISH
VERSION:2.0
BEGIN:VEVENT
CREATED;VALUE=DATE-TIME:20260329T000249Z
DTEND;VALUE=DATE-TIME:20260625T010000Z
DTSTART;VALUE=DATE-TIME:20260625T000000Z
DTSTAMP;VALUE=DATE-TIME:20260329T000249Z
LAST-MODIFIED;VALUE=DATE-TIME:20260329T000249Z
UID:https://adapt2play.org/events/22389-gould-nordic-summer-camp-2026
DESCRIPTION:More Info and Registration HERE\nSkiers are built in the summ
 er\, and Gould’s Nordic Camp is a fun way to kick off summer training ri
 ght! \nBring It All Together at Nordic Training Camp \nWe’re not waiting
  for Winter\, and neither should you! \nSkiers are built in the summer a
 nd Gould’s Nordic Camp is a fun way to kick off summer training right. O
 ur experienced staff will take you on adventures while honing your endur
 ance\, strength\, and skills. We’ll have a variety of activities from ro
 llersking to running\, biking to bounding\, agility courses to multispor
 t adventures\, and a whole lot more. \nWe’ll also play lots of games and
  hit as many crystal-clear water holes as we can. You’ll get some nutrit
 ion tips and our coaches will provide you with a summer training plan if
  you don’t have one. But best of all\, you’ll meet other skiers from aro
 und the state and country while enjoying the best that Western Maine has
  to offer. \nNordic Camp is lead by Nordic Ski Director &amp\; Dean of A
 cademics Ben Kamilewicz. \nQuestions: Please contact Summer Programs Ass
 ociate Abbey Quinn at quinna@gouldacademy.org. \n  \nTotal Cost of Regis
 tration: $350.00\n\nImported from: https://adapt2play.org/events/22389-g
 ould-nordic-summer-camp-2026
URL:https://nensa.net/event/gould-nordic-summer-camp-2026/
SUMMARY:Gould Nordic Summer Camp 2026
LOCATION:Location:: 39 Church Street\, Bethel Maine 04217 
SEQUENCE:1
END:VEVENT
END:VCALENDAR
