BEGIN:VCALENDAR
PRODID;X-RICAL-TZSOURCE=TZINFO:-//Calagator//EN
CALSCALE:GREGORIAN
X-WR-CALNAME:Adapt2Play
METHOD:PUBLISH
VERSION:2.0
BEGIN:VEVENT
CREATED;VALUE=DATE-TIME:20260328T000332Z
DTEND;VALUE=DATE-TIME:20260412T090000Z
DTSTART;VALUE=DATE-TIME:20260412T080000Z
DTSTAMP;VALUE=DATE-TIME:20260328T000332Z
LAST-MODIFIED;VALUE=DATE-TIME:20260328T000332Z
UID:https://adapt2play.org/events/22375-level-1-2-team
DESCRIPTION:\n\nImported from: https://adapt2play.org/events/22375-level-
 1-2-team
URL:https://rowrio.org/event/level-1-2-team-2/2026-04-12/
SUMMARY:Level 1/2 Team
LOCATION:Location:: 730 North Mill Avenue\, Tempe Arizona 85288 
SEQUENCE:1
END:VEVENT
END:VCALENDAR
