BEGIN:VCALENDAR
PRODID;X-RICAL-TZSOURCE=TZINFO:-//Calagator//EN
CALSCALE:GREGORIAN
X-WR-CALNAME:Adapt2Play
METHOD:PUBLISH
VERSION:2.0
BEGIN:VEVENT
CREATED;VALUE=DATE-TIME:20260328T000215Z
DTEND;VALUE=DATE-TIME:20260328T160000Z
DTSTART;VALUE=DATE-TIME:20260328T150000Z
DTSTAMP;VALUE=DATE-TIME:20260328T000215Z
LAST-MODIFIED;VALUE=DATE-TIME:20260328T000215Z
UID:https://adapt2play.org/events/22373-magnus-liljedahl-basic-keelboat-c
 ertification-class-adult-sailing-school
DESCRIPTION:March 28\, 2026 11:00am EDT\nCalendar: Adult Sailing School\n
 Name: Magnus Liljedahl\nPhone: (305) 776-8778\nEmail: magnus@teamparadis
 e.org\nPrice: $245.00\n\nLocation\n============\nTeam Paradise Sailing\,
  2476 S. Bayshore Dr. Miami\, FL 33133\n\n\nTerms &amp\; Conditions\n===
 =========\nHow did you find us: \n\nI have read and agree to the terms a
 bove: \n\n\nChange Appointment:\nhttps://teamparadise.squarespace.com/co
 nfig/scheduling/appointments/view/1677735034\n\n\nPlease use Acuity Sche
 duling to cancel or reschedule this appointment.\n(created by Acuity Sch
 eduling)\nAcuityID=1677735034\n\n\nImported from: https://adapt2play.org
 /events/22373-magnus-liljedahl-basic-keelboat-certification-class-adult-
 sailing-school
SUMMARY:Magnus Liljedahl: Basic Keelboat Certification Class (Adult Saili
 ng School)
LOCATION:Location:: 2476 South Bayshore Drive\, Miami Florida 33133 
SEQUENCE:1
END:VEVENT
END:VCALENDAR
