BEGIN:VCALENDAR
PRODID;X-RICAL-TZSOURCE=TZINFO:-//Calagator//EN
CALSCALE:GREGORIAN
X-WR-CALNAME:Adapt2Play
METHOD:PUBLISH
VERSION:2.0
BEGIN:VEVENT
CREATED;VALUE=DATE-TIME:20260327T000405Z
DTEND;VALUE=DATE-TIME:20260412T070000Z
DTSTART;VALUE=DATE-TIME:20260412T060000Z
DTSTAMP;VALUE=DATE-TIME:20260327T000405Z
LAST-MODIFIED;VALUE=DATE-TIME:20260328T000332Z
UID:https://adapt2play.org/events/22359-members-skills-and-drills
DESCRIPTION:\n\nImported from: https://adapt2play.org/events/22359-member
 s-skills-and-drills
URL:https://rowrio.org/event/members-skills-and-drills-2/2026-04-12/
SUMMARY:Members Skills and Drills
LOCATION:Location:: 730 North Mill Avenue\, Tempe Arizona 85288 
SEQUENCE:2
END:VEVENT
END:VCALENDAR
