BEGIN:VCALENDAR
PRODID;X-RICAL-TZSOURCE=TZINFO:-//Calagator//EN
CALSCALE:GREGORIAN
X-WR-CALNAME:Adapt2Play
METHOD:PUBLISH
VERSION:2.0
BEGIN:VEVENT
CREATED;VALUE=DATE-TIME:20260327T000350Z
DTEND;VALUE=DATE-TIME:20260409T183000Z
DTSTART;VALUE=DATE-TIME:20260409T173000Z
DTSTAMP;VALUE=DATE-TIME:20260327T000350Z
LAST-MODIFIED;VALUE=DATE-TIME:20260409T000329Z
UID:https://adapt2play.org/events/22356-wheelchair-tennis-southside
DESCRIPTION:Spring Wheelchair Tennis 2026\n\n\n\n\n\nBlazeSports is excit
 ed to kick off wheelchair tennis for Spring 2026. The BlazeSports Wheelc
 hair Tennis Program is open for athletes of all skill levels\, recreatio
 nal or competitive. Our coaches have years of experience with wheelchair
  tennis and will work with our athletes to develop their skills such as:
  chair maneuvering\, swing technique\, rules\, positioning\, and more. T
 his season the BlazeSports Tennis Team will have the opportunity to part
 icipate in USTA Junior Division Tournaments as well as observe elite lev
 els of adult league play. \n\nWe’re excited to announce the expansion of
  Wheelchair Tennis to South Atlanta\, with weekly southside practices to
  increase access for athletes across Metro Atlanta. Practices will now b
 e available on both the north and south sides. \nWe are thrilled for thi
 s expansion\, come out and serve up some fun! \n…………………………. \n\nAthlete 
 eligibility: Ages 6 – 22 years old. Primary diagnosis as a physical disa
 bility including but not limited to: Spinal Cord Injury\, Cerebral Palsy
 \, Spina Bifida\, Amputation\, Limb Difference\, Visual Impairment\, Dwa
 rfism\, Traumatic Brain Injury\, etc. \nBlazeSports has an equipment loa
 n program for our youth members\, if your athlete needs a sportschair or
  tennis racquet or if you have any questions please email erobinson@blaz
 esports.org. \nSeason Start: Thursday\, April 2nd\, 2026 \nSW ATL Practi
 ce Location\, Thursdays from 5:30-7pm:\nPeachtree City Tennis Center\n10
  Planterra Way\nPeachtree City\, GA 30269 \nFor more information or ques
 tions\, email: erobinson@blazesports.org\n\nImported from: https://adapt
 2play.org/events/22356-wheelchair-tennis-southside
URL:https://blazesports.org/event/wheelchair-tennis-2/2026-04-09/
SUMMARY:Wheelchair Tennis Southside
LOCATION:Location:: 10 Planterra Way\, Peachtree City Georgia 30269 
SEQUENCE:9
END:VEVENT
END:VCALENDAR
