BEGIN:VCALENDAR
PRODID;X-RICAL-TZSOURCE=TZINFO:-//Calagator//EN
CALSCALE:GREGORIAN
X-WR-CALNAME:Adapt2Play
METHOD:PUBLISH
VERSION:2.0
BEGIN:VEVENT
CREATED;VALUE=DATE-TIME:20260327T000256Z
DTEND;VALUE=DATE-TIME:20260412T200000Z
DTSTART;VALUE=DATE-TIME:20260412T190000Z
DTSTAMP;VALUE=DATE-TIME:20260327T000256Z
LAST-MODIFIED;VALUE=DATE-TIME:20260327T000256Z
UID:https://adapt2play.org/events/22347-medals-in-the-mountains-celebrati
 ng-local-olympians-and-youth-sport
DESCRIPTION:U.S. cross-country skiers Ben Ogden and Bill Koch will attend
  Medals in the Mountains: Celebrating Local Olympians and Youth Sports o
 n Sunday\, April 12\, 2026 at 3 p.m. at Bromley Mountain Resort. The fun
 draiser will benefit SMST2\, Mountain Towns Recreation (MTR)\, and the W
 est River Sports Association (WRSA). WRSA has entered its 54th year of o
 peration and collaborates closely with the recently created Mountain Tow
 ns Recreation to provide and serve youth sports programs for countless k
 ids from the Greater Southern Vermont region. \nRSVP here: https://www.p
 aperlesspost.com/go/RaEyj8mFEKgRYZCxdy8ND\n\nImported from: https://adap
 t2play.org/events/22347-medals-in-the-mountains-celebrating-local-olympi
 ans-and-youth-sport
URL:https://nensa.net/event/medals-in-the-mountains-celebrating-local-oly
 mpians-and-youth-sport/
SUMMARY:Medals in the Mountains: Celebrating Local Olympians and Youth Sp
 ort
LOCATION:Location:: 124 Bromley\, Peru Vermont 05152 
SEQUENCE:1
END:VEVENT
END:VCALENDAR
