BEGIN:VCALENDAR
PRODID;X-RICAL-TZSOURCE=TZINFO:-//Calagator//EN
CALSCALE:GREGORIAN
X-WR-CALNAME:Adapt2Play
METHOD:PUBLISH
VERSION:2.0
BEGIN:VEVENT
CREATED;VALUE=DATE-TIME:20260327T000132Z
DTEND;VALUE=DATE-TIME:20260421T230000Z
DTSTART;VALUE=DATE-TIME:20260421T220000Z
DTSTAMP;VALUE=DATE-TIME:20260327T000132Z
LAST-MODIFIED;VALUE=DATE-TIME:20260421T000117Z
UID:https://adapt2play.org/events/22339-group-run-achilles-boston
DESCRIPTION:\n\nImported from: https://adapt2play.org/events/22339-group-
 run-achilles-boston
URL:https://adaptivesportsne.org/event/achilles-international-runs-aib-bo
 ston/2026-04-21/
SUMMARY:Group Run - Achilles (Boston)
LOCATION:Location:: 276 Newbury Street\, Boston Massachusetts 02116 
SEQUENCE:5
END:VEVENT
END:VCALENDAR
