BEGIN:VCALENDAR
PRODID;X-RICAL-TZSOURCE=TZINFO:-//Calagator//EN
CALSCALE:GREGORIAN
X-WR-CALNAME:Adapt2Play
METHOD:PUBLISH
VERSION:2.0
BEGIN:VEVENT
CREATED;VALUE=DATE-TIME:20260327T000017Z
DTEND;VALUE=DATE-TIME:20260504T150000Z
DTSTART;VALUE=DATE-TIME:20260504T140000Z
DTSTAMP;VALUE=DATE-TIME:20260327T000017Z
LAST-MODIFIED;VALUE=DATE-TIME:20260327T000017Z
UID:https://adapt2play.org/events/22337-waves-of-freedom-snorkeling-clini
 c
DESCRIPTION:Join SGU Waves of Freedom Snorkeling Clinic \nGet ready for a
  fun and safe snorkeling experience! Here’s what you need to know: \nRec
 ommended items to bring: \nMask &amp\; snorkel \nLong neoprene pants or 
 bathing suit \nFoot booties or fins \nSunscreen \nHydration (water bottl
 e\, etc.) \nDry clothes &amp\; towel \nEvent details: \nPlease arrive on
  time and prepared. \nLight snacks\, water\, and Gatorade will be provid
 ed. \nEvery participant will have a dive buddy. \nClass is limited to si
 x individuals. \nBrought to you by the generous sponsorship of:\n\n			\n
 	\n \n\n\n        \n            \n        \n        \n            \n    
             Multi-Sports Registration Form\n            \n            \n
                 \n                                        \n            
         \n                    \n                        \n              
               Personal Information\n                            \n      
                   \n                    \n\n                    \n      
                   \n                            First Name *\n          
                   \n                        \n                        \n
                             Last Name *\n                            \n 
                        \n                    \n\n                    \n 
                        \n                            Address *\n        
                     \n                        \n                    \n\n
                     \n                        \n                        
     City *\n                            \n                        \n    
                     \n                            State *\n             
                \n                                Select State\n         
                                                                         
                    Alabama\n                                            
                         Alaska\n                                        
                             Arizona\n                                   
                                  Arkansas\n                             
                                        California\n                     
                                                Colorado\n               
                                                      Connecticut\n      
                                                               Delaware\n
                                                                     Flor
 ida\n                                                                   
  Georgia\n                                                              
       Hawaii\n                                                          
           Idaho\n                                                       
              Illinois\n                                                 
                    Indiana\n                                            
                         Iowa\n                                          
                           Kansas\n                                      
                               Kentucky\n                                
                                     Louisiana\n                         
                                            Maine\n                      
                                               Maryland\n                
                                                     Massachusetts\n     
                                                                Michigan\
 n                                                                    Min
 nesota\n                                                                
     Mississippi\n                                                       
              Missouri\n                                                 
                    Montana\n                                            
                         Nebraska\n                                      
                               Nevada\n                                  
                                   New Hampshire\n                       
                                              New Jersey\n               
                                                      New Mexico\n       
                                                              New York\n 
                                                                    North
  Carolina\n                                                             
        North Dakota\n                                                   
                  Ohio\n                                                 
                    Oklahoma\n                                           
                          Oregon\n                                       
                              Pennsylvania\n                             
                                        Rhode Island\n                   
                                                  South Carolina\n       
                                                              South Dakot
 a\n                                                                    T
 ennessee\n                                                              
       Texas\n                                                           
          Utah\n                                                         
            Vermont\n                                                    
                 Virginia\n                                              
                       Washington\n                                      
                               West Virginia\n                           
                                          Wisconsin\n                    
                                                 Wyoming\n               
                                              \n                        \
 n                        \n                            ZIP Code *\n     
                        \n                        \n                    \
 n\n                    \n                        \n                     
        Phone Number *\n                            \n                   
      \n                        \n                            Date of Bir
 th *\n                            \n                        \n          
           \n\n                    \n                    \n              
           \n                            Demographics\n                  
           \n                        \n                    \n\n          
           \n                        \n                            \n    
                             Gender *\n                                \n
                                     \n                                  
   Male\n                                \n                              
   \n                                    \n                              
       Female\n                                \n                        
         \n                                    \n                        
             LGBTQ+\n                                \n                  
           \n                        \n                        \n        
                     Race/Ethnicity\n                            \n      
                           Select (Optional)\n                           
                                                                         
  White\n                                                                
     Black or African American\n                                         
                            Hispanic or Latino\n                         
                                            Asian\n                      
                                               American Indian or Alaska 
 Native\n                                                                
     Native Hawaiian or Other Pacific Islander\n                         
                                            Two or More Races\n          
                                                           Other\n       
                                                      \n                 
        \n                    \n\n                    \n                 
    \n                        \n                            Disability In
 formation\n                            \n                        \n     
                \n\n                    \n                        \n     
                        \n                                Do you have a d
 isability? *\n                                \n                        
             \n                                    Yes\n                 
                \n                                \n                     
                \n                                    No\n               
                  \n                            \n                       
  \n                    \n\n                    \n                       
  \n                            \n                                Date of
  Disability\n                                \n                         
    \n                            \n                                \n   
                                  Is disability service related?\n       
                              \n                                        \
 n                                        Yes\n                          
           \n                                    \n                      
                   \n                                        No\n        
                             \n                                \n        
                     \n                        \n\n                      
   \n                            \n                                Disabi
 lity Details\n                                \n                        
     \n                        \n\n                        \n            
                 \n                                Place of Injury\n     
                            \n                            \n             
            \n                    \n\n                    \n             
        \n                        \n                            Military 
 Information\n                            \n                        \n   
                  \n\n                    \n                        \n   
                          \n                                Are you a mil
 itary veteran?\n                                \n                      
               \n                                    Yes\n               
                  \n                                \n                   
                  \n                                    No\n             
                    \n                            \n                     
    \n                    \n\n                    \n                     
    \n                            \n                                Branc
 h of Service\n                                \n                        
             Select Branch\n                                             
                                Army\n                                   
                                          Navy\n                         
                                                    Air Force\n          
                                                                   Marine
 s\n                                                                     
        Coast Guard\n                                                    
                         Space Force\n                                   
                                          Other\n                        
                                             \n                          
   \n                            \n                                \n    
                                 Service Period\n                        
             \n                                        \n                
                         Pre 2001\n                                    \n
                                     \n                                  
       \n                                        Post 2001\n             
                        \n                                \n             
                \n                        \n                    \n\n     
                \n                    \n                        \n       
                      Assistance and Mobility\n                          
   \n                        \n                    \n\n                  
   \n                        \n                            \n            
                     \n                                Require a guide\n 
                            \n                        \n                 
    \n\n                    \n                        \n                 
            \n                                Type of assistance needed\n
                                 \n                            \n        
                 \n                    \n\n                    \n        
                 \n                            Mobility aids used:\n     
                        \n                                               
                                                      \n                 
                        \n                                            \n 
                                            Push Rim\n                   
                      \n                                    \n           
                                                          \n             
                            \n                                           
  \n                                            HC\n                     
                    \n                                    \n             
                                                        \n               
                          \n                                            \
 n                                            WC\n                       
                  \n                                    \n               
                                                      \n                 
                        \n                                            \n 
                                            AMB\n                        
                 \n                                    \n                
                                                     \n                  
                       \n                                            \n  
                                           AMB-Other\n                   
                      \n                                    \n           
                                                          \n             
                            \n                                           
  \n                                            Cane\n                   
                      \n                                    \n           
                                                          \n             
                            \n                                           
  \n                                            Crutches\n               
                          \n                                    \n       
                                                              \n         
                                \n                                       
      \n                                            Prosthetics\n        
                                 \n                                    \n
                                                                     \n  
                                       \n                                
             \n                                            Other\n       
                                  \n                                    \
 n                                                            \n         
                \n                    \n\n                    \n         
            \n                        \n                            T-Shi
 rt Information\n                            \n                        \n
                     \n\n                    \n                        \n
                             T-Shirt Size *\n                            
 \n                                Select Size\n                         
                                                                         
    XS\n                                                                 
    S\n                                                                  
   M\n                                                                   
  L\n                                                                    
 XL\n                                                                    
 XXL\n                                                                   
  XXXL\n                                                            \n   
                      \n                        \n                       
      T-Shirt Style\n                            \n                      
           Select Style (Optional)\n                                Men's
 \n                                Women's\n                             
    Unisex\n                            \n                        \n     
                \n\n                    \n                    \n         
                \n                            Emergency Contact\n        
                     \n                        \n                    \n\n
                     \n                        \n                        
     Emergency Contact Name *\n                            \n            
             \n                        \n                            Emer
 gency Contact Phone *\n                            \n                   
      \n                    \n\n                    \n                   
  \n                        \n                            Waiver and Lega
 l Agreement\n                            \n                        \n   
                  \n\n                                            \n     
                                                        \n               
                      \n                                        Waiver an
 d Release of Liability\n                                        I know t
 hat participating in Shifting Gears United athletic events is potentiall
 y hazardous. I agree not to enter any Shifting Gears United race\, activ
 ity\, or sponsored event unless I am medically able and properly trained
 . I agree to abide by any decision of a race official relative to my abi
 lity to safely complete the activity. I assume all risks associated with
  participating\, including\, but not limited to: falls\, contact with ve
 hicles\, other participants\, spectators\, or others\, the effect of the
  weather\, including high heat\, extreme cold and/ or humidity\, traffic
  conditions of the road\, all such risks being known and appreciated by 
 me.\n\nHaving read this Waiver and knowing these facts\, and in consider
 ation of your accepting my application\, I\, for myself or for my child 
 and anyone else entitled to act on my behalf\, waive and release\, and a
 gree to indemnify and hold harmless Shifting Gears United to which I bel
 ong (including directors\, officers\, leaders\, members\, athletes\, vol
 unteers\, guides)\, the local county and city departments of Parks and R
 ecreation\, all sponsors of Shifting Gears United and any of their races
  or events\, members and volunteers\, from present and future claims and
  liabilities of any kind\, known or unknown\, arising out of my particip
 ation in any Shifting Gears United event or related activities\, even th
 ough that liability may arise out of ordinary negligence or fault on the
  part of the persons named in this Waiver. By registering for a Shifting
  Gears United or any other race though Shifting Gears United\, I hereby 
 grant my permission to Shifting Gears United to act as proxy on my behal
 f for that race with full authorization to execute consents\, waivers an
 d releases included in the Shifting Gears United registration. I further
  grant my permission to all the foregoing to use photographs\, motion pi
 ctures\, recordings\, or any other record\nof my participation in Shifti
 ng Gears United for any legitimate purpose\, without remuneration. I hav
 e read this waiver and agree to the terms. \n                           
                                                          \n             
                                    \n                                   
                  Initial Here *\n                                       
              \n                                                \n       
                                      \n                                 
                                            \n                           
      \n                                                            \n   
                                  \n                                     
    Safe Sport Acknowledgement\n                                        I
  understand that (1) participation with Shifting Gear s United is strict
 ly voluntary\, and (2) I a monthly to receive/provide running companions
 hip\, advice\, and encouragement from my fellow Shifting Gears United at
 hletes/volunteers/guides. If anything\, else is asked of me\, or if I am
  otherwise uncomfortable or concerned\, I will bring it to the immediate
  attention of the Shifting Gears United President. \n                   
                                                                  \n     
                                            \n                           
                          Initial Here *\n                               
                      \n                                                \
 n                                            \n                         
                                                    \n                   
              \n                                                    \n   
                  \n                    \n                    \n         
                \n                            Printed Name *\n           
                  \n                        \n                        \n 
                            Digital Signature (Type your full name) *\n  
                           \n                            By typing your n
 ame here\, you acknowledge that this serves as your electronic signature
 .\n                        \n                    \n\n                   
  \n                    \n                        \n                     
        \n                                Parent/Guardian Information (Re
 quired for participants under 18)\n                                \n   
                          \n                        \n\n                 
        \n                            \n                                P
 arent/Guardian Name\n                                \n                 
            \n                            \n                             
    Parent/Guardian Digital Signature\n                                \n
                             \n                        \n                
     \n\n                    \n                    \n                    
     \n                            Witness Information (Optional)\n      
                       \n                        \n                    \n
 \n                    \n                        \n                      
       Witness Name\n                            \n                      
   \n                        \n                            Witness Digita
 l Signature\n                            \n                        \n   
                  \n\n                    \n                        \n   
                          Submit Registration\n                        \n
                     \n                \n            \n        \n    \n\n
 \n\n    \n        \n            \n                Registration Status\n 
                \n            \n            \n                \n         
    \n            \n                Close\n                New Registrati
 on\n\nImported from: https://adapt2play.org/events/22337-waves-of-freedo
 m-snorkeling-clinic
URL:https://shiftinggearsunited.org/event/waves-of-freedom-snorkeling-cli
 nic/2026-05-04/
SUMMARY:Waves of Freedom Snorkeling Clinic
LOCATION:Location:: 900 East Blue Heron Boulevard\, Riviera Beach Florida
  33404 
SEQUENCE:1
END:VEVENT
END:VCALENDAR
