BEGIN:VCALENDAR
PRODID;X-RICAL-TZSOURCE=TZINFO:-//Calagator//EN
CALSCALE:GREGORIAN
X-WR-CALNAME:Adapt2Play
METHOD:PUBLISH
VERSION:2.0
BEGIN:VEVENT
CREATED;VALUE=DATE-TIME:20260311T000332Z
DTEND;VALUE=DATE-TIME:20260417T170000Z
DTSTART;VALUE=DATE-TIME:20260417T160000Z
DTSTAMP;VALUE=DATE-TIME:20260311T000332Z
LAST-MODIFIED;VALUE=DATE-TIME:20260417T000233Z
UID:https://adapt2play.org/events/21907-school-yoga-formerly-cycling
DESCRIPTION:Confirmed 10/6 open skate 10-12\n\nImported from: https://ada
 pt2play.org/events/21907-school-yoga-formerly-cycling
SUMMARY:School Yoga (formerly cycling)
LOCATION:Location:: 1190 East 2500 North\, North Logan Utah 84341 
SEQUENCE:4
END:VEVENT
END:VCALENDAR
