BEGIN:VCALENDAR
PRODID;X-RICAL-TZSOURCE=TZINFO:-//Calagator//EN
CALSCALE:GREGORIAN
X-WR-CALNAME:Adapt2Play
METHOD:PUBLISH
VERSION:2.0
BEGIN:VEVENT
CREATED;VALUE=DATE-TIME:20260307T000347Z
DTEND;VALUE=DATE-TIME:20260403T230000Z
DTSTART;VALUE=DATE-TIME:20260403T220000Z
DTSTAMP;VALUE=DATE-TIME:20260307T000347Z
LAST-MODIFIED;VALUE=DATE-TIME:20260403T000229Z
UID:https://adapt2play.org/events/21796-open-baby-animal-days-rescheduled
DESCRIPTION:\n\nImported from: https://adapt2play.org/events/21796-open-b
 aby-animal-days-rescheduled
SUMMARY:Open Baby Animal Days - Rescheduled
LOCATION:Location:: South Hwy 89-91\, Wellsville Utah 84339 
SEQUENCE:2
END:VEVENT
END:VCALENDAR
